BEGIN:VCALENDAR
VERSION:2.0
PRODID:-//AudioTheme 1.8.4
BEGIN:VEVENT
UID:https://allancaswell.com/?post_type=audiotheme_gig&#038;p=8893
URL:https://allancaswell.com/shows/tamworth-cm-festival/
DTSTART;TZID=GMT:20180123T080000
SUMMARY:TAMWORTH CM FESTIVAL
DESCRIPTION:TSA SALUTE
LOCATION:LONGYARD HOTEL
END:VEVENT
END:VCALENDAR