BEGIN:VCALENDAR
VERSION:2.0
PRODID:-//AudioTheme 1.8.4
BEGIN:VEVENT
UID:https://allancaswell.com/?post_type=audiotheme_gig&#038;p=1584
URL:https://allancaswell.com/shows/sofala-hotel/
DTSTART;TZID=GMT:20161112T070000
SUMMARY:Sofala Hotel
DESCRIPTION:Age restrictions: All Ages.
LOCATION:Sofala Royal Hotel\, Denison Street \, Sofala\, NSW\, Australia
END:VEVENT
END:VCALENDAR