BEGIN:VCALENDAR
VERSION:2.0
PRODID:-//AudioTheme 1.8.4
BEGIN:VEVENT
UID:https://allancaswell.com/?post_type=audiotheme_gig&#038;p=1675
URL:https://allancaswell.com/shows/normanville-hotel-2/
DTSTART;TZID=GMT:20161007T083000
SUMMARY:NORMANVILLE HOTEL
DESCRIPTION:50 YEARS IN OZ
LOCATION:Normanville Hotel\, 46 Main South Rd.\, Normanville\, South Australia\, Australia\, 5204
END:VEVENT
END:VCALENDAR