BEGIN:VCALENDAR
VERSION:2.0
PRODID:-//AudioTheme 1.8.4
BEGIN:VEVENT
UID:https://allancaswell.com/?post_type=audiotheme_gig&#038;p=1583
URL:https://allancaswell.com/shows/mudgee-brewing-company/
DTSTART;TZID=GMT:20161106T053000
SUMMARY:Mudgee Brewing Company
DESCRIPTION:Age restrictions: All Ages.
LOCATION:Mudgee Brewing Company\, 4 Church St\, Mudgee\, NSW\, Australia
END:VEVENT
END:VCALENDAR