BEGIN:VCALENDAR
VERSION:2.0
PRODID:-//AudioTheme 1.8.4
BEGIN:VEVENT
UID:https://allancaswell.com/?post_type=audiotheme_gig&#038;p=27176
URL:https://allancaswell.com/shows/mudgee-brewing-company-3/
DTSTART;TZID=GMT:20180805T030000
SUMMARY:MUDGEE BREWING COMPANY
LOCATION:Mudgee Brewing Company\, 4 Church St\, Mudgee\, NSW\, Australia
END:VEVENT
END:VCALENDAR