BEGIN:VCALENDAR
VERSION:2.0
PRODID:-//AudioTheme 1.8.4
BEGIN:VEVENT
UID:https://allancaswell.com/?post_type=audiotheme_gig&#038;p=2516
URL:https://allancaswell.com/shows/gig-2516/
DTSTART;VALUE=DATE:20170312
SUMMARY:THEEBINE HOTEL
DESCRIPTION:SONGWRITING WORKSHOP AND CONCERT.
LOCATION:THEEBINE HOTEL\, THEEBINE\, QUEENSLAND\, AUSTRALIA
END:VEVENT
END:VCALENDAR