BEGIN:VCALENDAR
VERSION:2.0
PRODID:-//AudioTheme 1.8.4
BEGIN:VEVENT
UID:https://allancaswell.com/?post_type=audiotheme_gig&#038;p=2506
URL:https://allancaswell.com/shows/gig-2506/
DTSTART;TZID=GMT:20170201T070000
SUMMARY:PRINCE OF WALES HOTEL 2
LOCATION:PRINCE OF WALES HOTEL 2\, MERRIWHETHER\, NSW
END:VEVENT
END:VCALENDAR