BEGIN:VCALENDAR
VERSION:2.0
PRODID:-//AudioTheme 1.8.4
BEGIN:VEVENT
UID:https://allancaswell.com/?post_type=audiotheme_gig&#038;p=2501
URL:https://allancaswell.com/shows/gig-2501/
DTSTART;TZID=GMT:20170211T070000
SUMMARY:PRINCE OF WALES HOTEL
LOCATION:PRINCE OF WALES HOTEL\, GULGONG\, NSW
END:VEVENT
END:VCALENDAR