BEGIN:VCALENDAR
VERSION:2.0
PRODID:-//AudioTheme 1.8.4
BEGIN:VEVENT
UID:https://allancaswell.com/?post_type=audiotheme_gig&#038;p=1875
URL:https://allancaswell.com/shows/gig-1875/
DTSTART;TZID=GMT:20170114T210000
SUMMARY:50 YEARS IN OZ
DESCRIPTION:breakfast show
LOCATION:Hotel Blue\, 88 Lurline St\, Katoomba\, NSW\, Australia
END:VEVENT
END:VCALENDAR