BEGIN:VCALENDAR
VERSION:2.0
PRODID:-//AudioTheme 1.8.4
BEGIN:VEVENT
UID:https://allancaswell.com/?post_type=audiotheme_gig&#038;p=1780
URL:https://allancaswell.com/shows/gig-1780/
DTSTART;TZID=GMT:20161210T080000
SUMMARY:50 YEARS IN OZ
DESCRIPTION:WITH DAVE SKINNER
LOCATION:Victoria & Albert Guesthouse\, 19 Station St\, Mount Victoria\, NSW\, Australia
END:VEVENT
END:VCALENDAR