BEGIN:VCALENDAR
VERSION:2.0
PRODID:-//AudioTheme 1.8.4
BEGIN:VEVENT
UID:https://allancaswell.com/?post_type=audiotheme_gig&#038;p=1763
URL:https://allancaswell.com/shows/gig-1763/
DTSTART;TZID=GMT:20170124T220000
SUMMARY:TAMWORTH SERVICES CLUB
LOCATION:TAMWORTH SERVICES CLUB\, TAMWORTH\, NSW
END:VEVENT
END:VCALENDAR