BEGIN:VCALENDAR
VERSION:2.0
PRODID:-//AudioTheme 1.8.4
BEGIN:VEVENT
UID:https://allancaswell.com/?post_type=audiotheme_gig&#038;p=11483
URL:https://allancaswell.com/shows/gig-11483/
DTSTART;TZID=GMT:20180717T010000
SUMMARY:ALBURY
LOCATION:COMMERCIAL CLUB\, ALBURY\, NSW\, AUSTRALIA
END:VEVENT
END:VCALENDAR