BEGIN:VCALENDAR
VERSION:2.0
PRODID:-//AudioTheme 1.8.4
BEGIN:VEVENT
UID:https://allancaswell.com/?post_type=audiotheme_gig&#038;p=11276
URL:https://allancaswell.com/shows/gig-11276/
DTSTART;TZID=GMT:20171230T093000
SUMMARY:MIRANDA RSL
LOCATION:MIRANDA RSL\, MIRANDA\, MIRANDA\, NSW\, AUSTRALIA
END:VEVENT
END:VCALENDAR