BEGIN:VCALENDAR
VERSION:2.0
PRODID:-//AudioTheme 1.8.4
BEGIN:VEVENT
UID:https://allancaswell.com/?post_type=audiotheme_gig&#038;p=11271
URL:https://allancaswell.com/shows/gig-11271/
DTSTART;TZID=GMT:20171213T080000
SUMMARY:51 YEARS IN OZ
LOCATION:THE RETREAT\, BRUNSWICK\, VICTORIA\, AUSTRALIA
END:VEVENT
END:VCALENDAR