BEGIN:VCALENDAR
VERSION:2.0
PRODID:-//AudioTheme 1.8.4
BEGIN:VEVENT
UID:https://allancaswell.com/?post_type=audiotheme_gig&#038;p=11136
URL:https://allancaswell.com/shows/gig-11136/
DTSTART;TZID=GMT:20180622T090000
SUMMARY:KARUAH
LOCATION:KARUAH RSL CLUB\, KARUAH\, NSW
END:VEVENT
END:VCALENDAR