BEGIN:VCALENDAR
VERSION:2.0
PRODID:-//AudioTheme 1.8.4
BEGIN:VEVENT
UID:https://allancaswell.com/?post_type=audiotheme_gig&#038;p=10675
URL:https://allancaswell.com/shows/gig-10675/
DTSTART;TZID=GMT:20171028T070000
SUMMARY:Hotel Blue
LOCATION:Hotel Blue\, 88 Lurline St\, Katoomba\, NSW\, Australia
END:VEVENT
END:VCALENDAR