BEGIN:VCALENDAR
VERSION:2.0
PRODID:-//AudioTheme 1.8.4
BEGIN:VEVENT
UID:https://allancaswell.com/?post_type=audiotheme_gig&#038;p=10669
URL:https://allancaswell.com/shows/gig-10669/
DTSTART;TZID=GMT:20180415T040000
SUMMARY:MAYFIELD
LOCATION:Wests Leagues Club Mayfied
END:VEVENT
END:VCALENDAR