BEGIN:VCALENDAR
VERSION:2.0
PRODID:-//AudioTheme 1.8.4
BEGIN:VEVENT
UID:https://allancaswell.com/?post_type=audiotheme_gig&#038;p=10403
URL:https://allancaswell.com/shows/gig-10403/
DTSTART;TZID=GMT:20180122T220000
SUMMARY:TAMWORTH CM FESTIVAL
DESCRIPTION:WRITERS IN THE ROUND WITH MICHAEL CARPENTER AND ONE OTHER
LOCATION:TAMWORTH SERVICES CLUB\, TAMWORTH\, NSW
END:VEVENT
END:VCALENDAR