BEGIN:VCALENDAR
VERSION:2.0
PRODID:-//AudioTheme 1.8.4
BEGIN:VEVENT
UID:https://allancaswell.com/?post_type=audiotheme_gig&#038;p=10101
URL:https://allancaswell.com/shows/gig-10101/
DTSTART;TZID=GMT:20171124T080000
SUMMARY:South Tamworth Bowling Club
LOCATION:South Tamworth Bowling Club\, 11 Margaret St\, South Tamworth\, NSW\, Australia
END:VEVENT
END:VCALENDAR