BEGIN:VCALENDAR
VERSION:2.0
PRODID:-//AudioTheme 1.8.4
BEGIN:VEVENT
UID:https://allancaswell.com/?post_type=audiotheme_gig&#038;p=11275
URL:https://allancaswell.com/shows/51-years-in-oz/
DTSTART;TZID=GMT:20171217T050000
SUMMARY:51 YEARS IN OZ
LOCATION:PIER HOTEL\, BOTANY\, NSW
END:VEVENT
END:VCALENDAR