BEGIN:VCALENDAR
VERSION:2.0
PRODID:-//AudioTheme 1.8.4
BEGIN:VEVENT
UID:https://allancaswell.com/?post_type=audiotheme_gig&#038;p=11482
URL:https://allancaswell.com/shows/51-years-in-oz-3/
DTSTART;TZID=GMT:20180715T030000
SUMMARY:YOUNG
LOCATION:YOUNG SERVICES CLUB\, YOUNG\, NSW\, AUSTRALIA
END:VEVENT
END:VCALENDAR