BEGIN:VCALENDAR
VERSION:2.0
PRODID:-//AudioTheme 1.8.4
BEGIN:VEVENT
UID:https://allancaswell.com/?post_type=audiotheme_gig&#038;p=11417
URL:https://allancaswell.com/shows/51-years-in-oz-2/
DTSTART;TZID=GMT:20180527T030000
SUMMARY:KINGSFORD
LOCATION:SOUTHS JUNIORS\, ANZAC PDE\, KINGSFORD\, \, AUSTRALIA
END:VEVENT
END:VCALENDAR