BEGIN:VCALENDAR
VERSION:2.0
PRODID:-//AudioTheme 1.8.4
BEGIN:VEVENT
UID:https://allancaswell.com/?post_type=audiotheme_gig&#038;p=9412
URL:https://allancaswell.com/shows/50-years-in-oz-33/
DTSTART;TZID=GMT:20170717T090000
SUMMARY:50 YEARS IN OZ
LOCATION:THE RETREAT\, BRUNSWICK\, VICTORIA\, AUSTRALIA
END:VEVENT
END:VCALENDAR