BEGIN:VCALENDAR
VERSION:2.0
PRODID:-//AudioTheme 1.8.4
BEGIN:VEVENT
UID:https://allancaswell.com/?post_type=audiotheme_gig&#038;p=9253
URL:https://allancaswell.com/shows/50-years-in-oz-32/
DTSTART;TZID=GMT:20170909T080000
SUMMARY:50 YEARS IN OZ
LOCATION:PRINCE OF WALES HOTEL\, GULGONG\, NSW
END:VEVENT
END:VCALENDAR