BEGIN:VCALENDAR
VERSION:2.0
PRODID:-//AudioTheme 1.8.4
BEGIN:VEVENT
UID:https://allancaswell.com/?post_type=audiotheme_gig&#038;p=10031
URL:https://allancaswell.com/shows/50-years-in-oz-23/
DTSTART;TZID=GMT:20170923T090000
SUMMARY:50 YEARS IN OZ
DESCRIPTION:CARPENTER CASWELL ALBUM LAUNCH
LOCATION:THE NEWSAGENCY\, ANNANDALE\, NSW\, AUSTRALIA
END:VEVENT
END:VCALENDAR