BEGIN:VCALENDAR
VERSION:2.0
PRODID:-//AudioTheme 1.8.4
BEGIN:VEVENT
UID:https://allancaswell.com/?post_type=audiotheme_gig&#038;p=3053
URL:https://allancaswell.com/shows/50-years-in-oz-18/
DTSTART;TZID=GMT:20170303T090000
SUMMARY:50 YEARS IN OZ
LOCATION:Eastern Suburbs Legion Club\, 213 Bronte Rd\, Waverley\, NSW\, Australia
END:VEVENT
END:VCALENDAR