BEGIN:VCALENDAR
VERSION:2.0
PRODID:-//AudioTheme 1.8.4
BEGIN:VEVENT
UID:https://allancaswell.com/?post_type=audiotheme_gig&#038;p=1963
URL:https://allancaswell.com/shows/50-years-in-oz-10/
DTSTART;TZID=GMT:20170506T020000
SUMMARY:50 YEARS IN OZ
LOCATION:LOST HIGHWAY FESTIVAL\, \, KARUAH
END:VEVENT
END:VCALENDAR